BEGIN:VCALENDAR
VERSION:2.0
PRODID:SchoolNow
CALSCALE:GREGORIAN
BEGIN:VEVENT
UID:c60f8b0a-a96c-11f0-8fea-0a58a9feac02
DTSTAMP:20260421T085008Z
SUMMARY:District Spelling Bee
LOCATION:J.H. Hull Middle School\, 2080 231st St\, Torrance\, CA 90501\, US
 A
URL;VALUE=URI:https://www.tusd.org/schools/torrance-elementary/calendar/872
 3080/district-spelling-bee
DTSTART:20260123T010000Z
DTEND:20260123T030000Z
END:VEVENT
END:VCALENDAR
