BEGIN:VCALENDAR
VERSION:2.0
PRODID:SchoolNow
CALSCALE:GREGORIAN
BEGIN:VEVENT
UID:6159c3e6-9d79-11f0-8db2-0a58a9feac02
DTSTAMP:20260420T022510Z
SUMMARY:School Spirit Wednesday
URL;VALUE=URI:https://www.tusd.org/schools/torrance-elementary/calendar/867
 7814/school-spirit-wednesday
DTSTART;VALUE=DATE:20270526
DTEND;VALUE=DATE:20270527
END:VEVENT
END:VCALENDAR
