BEGIN:VCALENDAR
VERSION:2.0
PRODID:SchoolNow
CALSCALE:GREGORIAN
BEGIN:VEVENT
UID:6154eba0-9d79-11f0-8e8e-0a58a9feac02
DTSTAMP:20260420T022510Z
SUMMARY:College Gear
URL;VALUE=URI:https://www.tusd.org/schools/torrance-elementary/calendar/867
 7813/college-gear
DTSTART;VALUE=DATE:20270528
DTEND;VALUE=DATE:20270529
END:VEVENT
END:VCALENDAR
