BEGIN:VCALENDAR
VERSION:2.0
PRODID:SchoolNow
CALSCALE:GREGORIAN
BEGIN:VEVENT
UID:53a2483e-98b2-11f0-8a72-0a58a9feac02
DTSTAMP:20260420T022510Z
SUMMARY:School Spirit Wednesday
URL;VALUE=URI:https://www.tusd.org/schools/torrance-elementary/calendar/865
 6893/school-spirit-wednesday
DTSTART;VALUE=DATE:20270519
DTEND;VALUE=DATE:20270520
END:VEVENT
END:VCALENDAR
