BEGIN:VCALENDAR
VERSION:2.0
PRODID:SchoolNow
CALSCALE:GREGORIAN
BEGIN:VEVENT
UID:539df036-98b2-11f0-a539-0a58a9feac02
DTSTAMP:20260420T022510Z
SUMMARY:College Gear
URL;VALUE=URI:https://www.tusd.org/schools/torrance-elementary/calendar/865
 6892/college-gear
DTSTART;VALUE=DATE:20270521
DTEND;VALUE=DATE:20270522
END:VEVENT
END:VCALENDAR
