BEGIN:VCALENDAR
VERSION:2.0
PRODID:SchoolNow
CALSCALE:GREGORIAN
BEGIN:VEVENT
UID:539dec4e-98b2-11f0-9cdd-0a58a9feac02
DTSTAMP:20260420T022510Z
SUMMARY:College Gear
URL;VALUE=URI:https://www.tusd.org/schools/torrance-elementary/calendar/865
 6891/college-gear
DTSTART;VALUE=DATE:20270514
DTEND;VALUE=DATE:20270515
END:VEVENT
END:VCALENDAR
