BEGIN:VCALENDAR
VERSION:2.0
PRODID:SchoolNow
CALSCALE:GREGORIAN
BEGIN:VEVENT
UID:c23c2e48-9021-11f0-bc11-0e163af0fcc7
DTSTAMP:20260419T202008Z
SUMMARY:School Spirit Wednesday
URL;VALUE=URI:https://www.tusd.org/schools/torrance-elementary/calendar/861
 5499/school-spirit-wednesday
DTSTART;VALUE=DATE:20270428
DTEND;VALUE=DATE:20270429
END:VEVENT
END:VCALENDAR
