BEGIN:VCALENDAR
VERSION:2.0
PRODID:SchoolNow
CALSCALE:GREGORIAN
BEGIN:VEVENT
UID:c23c259c-9021-11f0-948d-0e163af0fcc7
DTSTAMP:20260419T202007Z
SUMMARY:School Spirit Wednesday
URL;VALUE=URI:https://www.tusd.org/schools/torrance-elementary/calendar/861
 5489/school-spirit-wednesday
DTSTART;VALUE=DATE:20270217
DTEND;VALUE=DATE:20270218
END:VEVENT
END:VCALENDAR
