BEGIN:VCALENDAR
VERSION:2.0
PRODID:SchoolNow
CALSCALE:GREGORIAN
BEGIN:VEVENT
UID:c23c22ea-9021-11f0-93d2-0e163af0fcc7
DTSTAMP:20260419T202007Z
SUMMARY:School Spirit Wednesday
URL;VALUE=URI:https://www.tusd.org/schools/torrance-elementary/calendar/861
 5487/school-spirit-wednesday
DTSTART;VALUE=DATE:20270203
DTEND;VALUE=DATE:20270204
END:VEVENT
END:VCALENDAR
