BEGIN:VCALENDAR
VERSION:2.0
PRODID:SchoolNow
CALSCALE:GREGORIAN
BEGIN:VEVENT
UID:c23c204c-9021-11f0-9e8e-0e163af0fcc7
DTSTAMP:20260419T202007Z
SUMMARY:School Spirit Wednesday
URL;VALUE=URI:https://www.tusd.org/schools/torrance-elementary/calendar/861
 5484/school-spirit-wednesday
DTSTART;VALUE=DATE:20270113
DTEND;VALUE=DATE:20270114
END:VEVENT
END:VCALENDAR
