BEGIN:VCALENDAR
VERSION:2.0
PRODID:SchoolNow
CALSCALE:GREGORIAN
BEGIN:VEVENT
UID:c23c1bec-9021-11f0-bacd-0e163af0fcc7
DTSTAMP:20260419T141508Z
SUMMARY:School Spirit Wednesday
URL;VALUE=URI:https://www.tusd.org/schools/torrance-elementary/calendar/861
 5479/school-spirit-wednesday
DTSTART;VALUE=DATE:20261209
DTEND;VALUE=DATE:20261210
END:VEVENT
END:VCALENDAR
