BEGIN:VCALENDAR
VERSION:2.0
PRODID:SchoolNow
CALSCALE:GREGORIAN
BEGIN:VEVENT
UID:c23c1796-9021-11f0-b1d5-0e163af0fcc7
DTSTAMP:20260419T141508Z
SUMMARY:School Spirit Wednesday
URL;VALUE=URI:https://www.tusd.org/schools/torrance-elementary/calendar/861
 5474/school-spirit-wednesday
DTSTART;VALUE=DATE:20261104
DTEND;VALUE=DATE:20261105
END:VEVENT
END:VCALENDAR
