BEGIN:VCALENDAR
VERSION:2.0
PRODID:SchoolNow
CALSCALE:GREGORIAN
BEGIN:VEVENT
UID:c23c0e0e-9021-11f0-8713-0e163af0fcc7
DTSTAMP:20260419T081007Z
SUMMARY:School Spirit Wednesday
URL;VALUE=URI:https://www.tusd.org/schools/torrance-elementary/calendar/861
 5463/school-spirit-wednesday
DTSTART;VALUE=DATE:20260819
DTEND;VALUE=DATE:20260820
END:VEVENT
END:VCALENDAR
