BEGIN:VCALENDAR
VERSION:2.0
PRODID:SchoolNow
CALSCALE:GREGORIAN
BEGIN:VEVENT
UID:c23c0b84-9021-11f0-bce4-0e163af0fcc7
DTSTAMP:20260419T081007Z
SUMMARY:School Spirit Wednesday
URL;VALUE=URI:https://www.tusd.org/schools/torrance-elementary/calendar/861
 5461/school-spirit-wednesday
DTSTART;VALUE=DATE:20260805
DTEND;VALUE=DATE:20260806
END:VEVENT
END:VCALENDAR
