BEGIN:VCALENDAR
VERSION:2.0
PRODID:SchoolNow
CALSCALE:GREGORIAN
BEGIN:VEVENT
UID:c23c0aa8-9021-11f0-9932-0e163af0fcc7
DTSTAMP:20260419T081007Z
SUMMARY:School Spirit Wednesday
URL;VALUE=URI:https://www.tusd.org/schools/torrance-elementary/calendar/861
 5460/school-spirit-wednesday
DTSTART;VALUE=DATE:20260729
DTEND;VALUE=DATE:20260730
END:VEVENT
END:VCALENDAR
