BEGIN:VCALENDAR
VERSION:2.0
PRODID:SchoolNow
CALSCALE:GREGORIAN
BEGIN:VEVENT
UID:c23c0724-9021-11f0-93df-0e163af0fcc7
DTSTAMP:20260419T081007Z
SUMMARY:School Spirit Wednesday
URL;VALUE=URI:https://www.tusd.org/schools/torrance-elementary/calendar/861
 5456/school-spirit-wednesday
DTSTART;VALUE=DATE:20260701
DTEND;VALUE=DATE:20260702
END:VEVENT
END:VCALENDAR
