BEGIN:VCALENDAR
VERSION:2.0
PRODID:SchoolNow
CALSCALE:GREGORIAN
BEGIN:VEVENT
UID:c1e7df3c-9021-11f0-8271-0e163af0fcc7
DTSTAMP:20260421T085008Z
SUMMARY:School Spirit Wednesday
URL;VALUE=URI:https://www.tusd.org/schools/torrance-elementary/calendar/861
 5431/school-spirit-wednesday
DTSTART;VALUE=DATE:20260107
DTEND;VALUE=DATE:20260108
END:VEVENT
END:VCALENDAR
