BEGIN:VCALENDAR
VERSION:2.0
PRODID:SchoolNow
CALSCALE:GREGORIAN
BEGIN:VEVENT
UID:c1e7ce98-9021-11f0-8e02-0e163af0fcc7
DTSTAMP:20260420T022510Z
SUMMARY:College Gear
URL;VALUE=URI:https://www.tusd.org/schools/torrance-elementary/calendar/861
 5414/college-gear
DTSTART;VALUE=DATE:20270507
DTEND;VALUE=DATE:20270508
END:VEVENT
END:VCALENDAR
