BEGIN:VCALENDAR
VERSION:2.0
PRODID:SchoolNow
CALSCALE:GREGORIAN
BEGIN:VEVENT
UID:c1e7cdb2-9021-11f0-b64e-0e163af0fcc7
DTSTAMP:20260419T202008Z
SUMMARY:College Gear
URL;VALUE=URI:https://www.tusd.org/schools/torrance-elementary/calendar/861
 5413/college-gear
DTSTART;VALUE=DATE:20270430
DTEND;VALUE=DATE:20270501
END:VEVENT
END:VCALENDAR
