BEGIN:VCALENDAR
VERSION:2.0
PRODID:SchoolNow
CALSCALE:GREGORIAN
BEGIN:VEVENT
UID:c1e7cce0-9021-11f0-b760-0e163af0fcc7
DTSTAMP:20260419T202008Z
SUMMARY:College Gear
URL;VALUE=URI:https://www.tusd.org/schools/torrance-elementary/calendar/861
 5412/college-gear
DTSTART;VALUE=DATE:20270423
DTEND;VALUE=DATE:20270424
END:VEVENT
END:VCALENDAR
