BEGIN:VCALENDAR
VERSION:2.0
PRODID:SchoolNow
CALSCALE:GREGORIAN
BEGIN:VEVENT
UID:c1e7cc04-9021-11f0-b7ab-0e163af0fcc7
DTSTAMP:20260419T202008Z
SUMMARY:College Gear
URL;VALUE=URI:https://www.tusd.org/schools/torrance-elementary/calendar/861
 5411/college-gear
DTSTART;VALUE=DATE:20270416
DTEND;VALUE=DATE:20270417
END:VEVENT
END:VCALENDAR
