BEGIN:VCALENDAR
VERSION:2.0
PRODID:SchoolNow
CALSCALE:GREGORIAN
BEGIN:VEVENT
UID:c1e7c6f0-9021-11f0-8ce3-0e163af0fcc7
DTSTAMP:20260419T202008Z
SUMMARY:College Gear
URL;VALUE=URI:https://www.tusd.org/schools/torrance-elementary/calendar/861
 5405/college-gear
DTSTART;VALUE=DATE:20270305
DTEND;VALUE=DATE:20270306
END:VEVENT
END:VCALENDAR
