BEGIN:VCALENDAR
VERSION:2.0
PRODID:SchoolNow
CALSCALE:GREGORIAN
BEGIN:VEVENT
UID:c1e7bb88-9021-11f0-b529-0e163af0fcc7
DTSTAMP:20260419T141508Z
SUMMARY:College Gear
URL;VALUE=URI:https://www.tusd.org/schools/torrance-elementary/calendar/861
 5392/college-gear
DTSTART;VALUE=DATE:20261204
DTEND;VALUE=DATE:20261205
END:VEVENT
END:VCALENDAR
