BEGIN:VCALENDAR
VERSION:2.0
PRODID:SchoolNow
CALSCALE:GREGORIAN
BEGIN:VEVENT
UID:c1e7baac-9021-11f0-9883-0e163af0fcc7
DTSTAMP:20260419T141508Z
SUMMARY:College Gear
URL;VALUE=URI:https://www.tusd.org/schools/torrance-elementary/calendar/861
 5391/college-gear
DTSTART;VALUE=DATE:20261127
DTEND;VALUE=DATE:20261128
END:VEVENT
END:VCALENDAR
