BEGIN:VCALENDAR
VERSION:2.0
PRODID:SchoolNow
CALSCALE:GREGORIAN
BEGIN:VEVENT
UID:c1e7b8fe-9021-11f0-8eb1-0e163af0fcc7
DTSTAMP:20260419T141508Z
SUMMARY:College Gear
URL;VALUE=URI:https://www.tusd.org/schools/torrance-elementary/calendar/861
 5389/college-gear
DTSTART;VALUE=DATE:20261113
DTEND;VALUE=DATE:20261114
END:VEVENT
END:VCALENDAR
