BEGIN:VCALENDAR
VERSION:2.0
PRODID:SchoolNow
CALSCALE:GREGORIAN
BEGIN:VEVENT
UID:c1e7b746-9021-11f0-a97d-0e163af0fcc7
DTSTAMP:20260419T141508Z
SUMMARY:College Gear
URL;VALUE=URI:https://www.tusd.org/schools/torrance-elementary/calendar/861
 5387/college-gear
DTSTART;VALUE=DATE:20261030
DTEND;VALUE=DATE:20261031
END:VEVENT
END:VCALENDAR
