BEGIN:VCALENDAR
VERSION:2.0
PRODID:SchoolNow
CALSCALE:GREGORIAN
BEGIN:VEVENT
UID:c1e7b674-9021-11f0-81f7-0e163af0fcc7
DTSTAMP:20260419T141508Z
SUMMARY:College Gear
URL;VALUE=URI:https://www.tusd.org/schools/torrance-elementary/calendar/861
 5386/college-gear
DTSTART;VALUE=DATE:20261023
DTEND;VALUE=DATE:20261024
END:VEVENT
END:VCALENDAR
