BEGIN:VCALENDAR
VERSION:2.0
PRODID:SchoolNow
CALSCALE:GREGORIAN
BEGIN:VEVENT
UID:c1e7b4bc-9021-11f0-a5cb-0e163af0fcc7
DTSTAMP:20260419T141508Z
SUMMARY:College Gear
URL;VALUE=URI:https://www.tusd.org/schools/torrance-elementary/calendar/861
 5384/college-gear
DTSTART;VALUE=DATE:20261009
DTEND;VALUE=DATE:20261010
END:VEVENT
END:VCALENDAR
