BEGIN:VCALENDAR
VERSION:2.0
PRODID:SchoolNow
CALSCALE:GREGORIAN
BEGIN:VEVENT
UID:c1e7b3e0-9021-11f0-b7eb-0e163af0fcc7
DTSTAMP:20260419T141508Z
SUMMARY:College Gear
URL;VALUE=URI:https://www.tusd.org/schools/torrance-elementary/calendar/861
 5383/college-gear
DTSTART;VALUE=DATE:20261002
DTEND;VALUE=DATE:20261003
END:VEVENT
END:VCALENDAR
