BEGIN:VCALENDAR
VERSION:2.0
PRODID:SchoolNow
CALSCALE:GREGORIAN
BEGIN:VEVENT
UID:c1e7ae18-9021-11f0-855d-0e163af0fcc7
DTSTAMP:20260419T081007Z
SUMMARY:College Gear
URL;VALUE=URI:https://www.tusd.org/schools/torrance-elementary/calendar/861
 5377/college-gear
DTSTART;VALUE=DATE:20260821
DTEND;VALUE=DATE:20260822
END:VEVENT
END:VCALENDAR
