BEGIN:VCALENDAR
VERSION:2.0
PRODID:SchoolNow
CALSCALE:GREGORIAN
BEGIN:VEVENT
UID:e110cc22-8dbd-11f0-911b-0a58a9feac02
DTSTAMP:20260419T141508Z
SUMMARY:World Mental Health Day
URL;VALUE=URI:https://www.tusd.org/schools/torrance-elementary/calendar/860
 1986/world-mental-health-day
DTSTART;VALUE=DATE:20261010
DTEND;VALUE=DATE:20261011
END:VEVENT
END:VCALENDAR
