BEGIN:VCALENDAR
VERSION:2.0
PRODID:SchoolNow
CALSCALE:GREGORIAN
BEGIN:VEVENT
UID:a0a8d7d6-674f-11f0-8459-0afff51d7ab7
DTSTAMP:20260421T085008Z
SUMMARY:Coffee with the Principal
URL;VALUE=URI:https://www.tusd.org/schools/torrance-elementary/calendar/843
 8402/coffee-with-the-principal
DTSTART:20260116T171500Z
DTEND:20260116T181500Z
END:VEVENT
END:VCALENDAR
