BEGIN:VCALENDAR
VERSION:2.0
PRODID:SchoolNow
CALSCALE:GREGORIAN
BEGIN:VEVENT
UID:a0a8d47a-674f-11f0-b68e-0afff51d7ab7
DTSTAMP:20260421T085008Z
SUMMARY:SSC Meeting #6
URL;VALUE=URI:https://www.tusd.org/schools/torrance-elementary/calendar/843
 8398/ssc-meeting-6
DTSTART:20260518T222000Z
DTEND:20260518T232000Z
END:VEVENT
END:VCALENDAR
