BEGIN:VCALENDAR
VERSION:2.0
PRODID:SchoolNow
CALSCALE:GREGORIAN
BEGIN:VEVENT
UID:a0a8d39e-674f-11f0-b7af-0afff51d7ab7
DTSTAMP:20260421T024507Z
SUMMARY:SSC Meeting #4
URL;VALUE=URI:https://www.tusd.org/schools/torrance-elementary/calendar/843
 8397/ssc-meeting-4
DTSTART:20260413T222000Z
DTEND:20260413T232000Z
END:VEVENT
END:VCALENDAR
