BEGIN:VCALENDAR
VERSION:2.0
PRODID:SchoolNow
CALSCALE:GREGORIAN
BEGIN:VEVENT
UID:a0a8ce76-674f-11f0-b8d6-0afff51d7ab7
DTSTAMP:20260421T085008Z
SUMMARY:DELMAC Meeting #4
URL;VALUE=URI:https://www.tusd.org/schools/torrance-elementary/calendar/843
 8391/delmac-meeting-4
DTSTART:20260515T170000Z
DTEND:20260515T190000Z
END:VEVENT
END:VCALENDAR
