BEGIN:VCALENDAR
VERSION:2.0
PRODID:SchoolNow
CALSCALE:GREGORIAN
BEGIN:VEVENT
UID:a0a8ccc8-674f-11f0-b209-0afff51d7ab7
DTSTAMP:20260421T085008Z
SUMMARY:DELMAC Meeting #2
URL;VALUE=URI:https://www.tusd.org/schools/torrance-elementary/calendar/843
 8389/delmac-meeting-2
DTSTART:20260123T180000Z
DTEND:20260123T200000Z
END:VEVENT
END:VCALENDAR
