BEGIN:VCALENDAR
VERSION:2.0
PRODID:SchoolNow
CALSCALE:GREGORIAN
BEGIN:VEVENT
UID:a0a8cb10-674f-11f0-918d-0afff51d7ab7
DTSTAMP:20260421T085008Z
SUMMARY:ELMAC #4 Meeting
URL;VALUE=URI:https://www.tusd.org/schools/torrance-elementary/calendar/843
 8387/elmac-4-meeting
DTSTART:20260522T161500Z
DTEND:20260522T171500Z
END:VEVENT
END:VCALENDAR
