BEGIN:VCALENDAR
VERSION:2.0
PRODID:SchoolNow
CALSCALE:GREGORIAN
BEGIN:VEVENT
UID:a0a8c87c-674f-11f0-83e5-0afff51d7ab7
DTSTAMP:20260421T085008Z
SUMMARY:ELMAC Meeting #2
URL;VALUE=URI:https://www.tusd.org/schools/torrance-elementary/calendar/843
 8384/elmac-meeting-2
DTSTART:20260130T171500Z
DTEND:20260130T181500Z
END:VEVENT
END:VCALENDAR
