BEGIN:VCALENDAR
VERSION:2.0
PRODID:SchoolNow
CALSCALE:GREGORIAN
BEGIN:VEVENT
UID:a0a8c5f2-674f-11f0-ac12-0afff51d7ab7
DTSTAMP:20260421T085008Z
SUMMARY:No School (in observance of Memorial Day)
URL;VALUE=URI:https://www.tusd.org/schools/torrance-elementary/calendar/843
 8381/no-school-in-observance-of-memorial-day
DTSTART;VALUE=DATE:20260525
DTEND;VALUE=DATE:20260526
END:VEVENT
END:VCALENDAR
