BEGIN:VCALENDAR
VERSION:2.0
PRODID:SchoolNow
CALSCALE:GREGORIAN
BEGIN:VEVENT
UID:a0a8c0ac-674f-11f0-a482-0afff51d7ab7
DTSTAMP:20260421T085008Z
SUMMARY:Local Non Instructional Day (no school for students)
URL;VALUE=URI:https://www.tusd.org/schools/torrance-elementary/calendar/843
 8375/local-non-instructional-day-no-school-for-students
DTSTART;VALUE=DATE:20260501
DTEND;VALUE=DATE:20260502
END:VEVENT
END:VCALENDAR
