BEGIN:VCALENDAR
VERSION:2.0
PRODID:SchoolNow
CALSCALE:GREGORIAN
BEGIN:VEVENT
UID:a0a8bfd0-674f-11f0-a3a0-0afff51d7ab7
DTSTAMP:20260421T085007Z
SUMMARY:Staff Appreciation Week
URL;VALUE=URI:https://www.tusd.org/schools/torrance-elementary/calendar/843
 8374/staff-appreciation-week
DTSTART;VALUE=DATE:20260504
DTEND;VALUE=DATE:20260509
END:VEVENT
END:VCALENDAR
