BEGIN:VCALENDAR
VERSION:2.0
PRODID:SchoolNow
CALSCALE:GREGORIAN
BEGIN:VEVENT
UID:74ea8fcc-430f-11f0-84d9-0a58a9feac02
DTSTAMP:20260422T030508Z
SUMMARY:SEMESTER 1/QUARTER 2 ENDS (1/28/22)
URL;VALUE=URI:https://www.tusd.org/schools/torrance-elementary/calendar/826
 2828/semester-1-quarter-2-ends-1-28-22
DTSTART;VALUE=DATE:20270128
DTEND;VALUE=DATE:20270129
END:VEVENT
END:VCALENDAR
