BEGIN:VCALENDAR
VERSION:2.0
PRODID:SchoolNow
CALSCALE:GREGORIAN
BEGIN:VEVENT
UID:74ea84aa-430f-11f0-b573-0a58a9feac02
DTSTAMP:20260421T085007Z
SUMMARY:Parent Conferences
URL;VALUE=URI:https://www.tusd.org/schools/torrance-elementary/calendar/826
 2816/parent-conferences
DTSTART;VALUE=DATE:20260120
DTEND;VALUE=DATE:20260130
END:VEVENT
END:VCALENDAR
