BEGIN:VCALENDAR
VERSION:2.0
PRODID:SchoolNow
CALSCALE:GREGORIAN
BEGIN:VEVENT
UID:b070e6fc-a39d-11ef-9cc9-0a58a9feac02
DTSTAMP:20241115T220513Z
SUMMARY:Winter Choir Performance
URL;VALUE=URI:https://www.tusd.org/schools/torrance-elementary/calendar/702
 8419/winter-choir-performance
DTSTART:20241217T223000Z
DTEND:20241217T230000Z
END:VEVENT
END:VCALENDAR
