BEGIN:VCALENDAR
VERSION:2.0
PRODID:SchoolNow
CALSCALE:GREGORIAN
BEGIN:VEVENT
UID:0a0c3b54-2ab2-11ef-b645-0a58a9feac02
DTSTAMP:20260421T085008Z
SUMMARY:SEMESTER 1/QUARTER 2 ENDS (1/28/22)
URL;VALUE=URI:https://www.tusd.org/schools/torrance-elementary/calendar/612
 3378/semester-1-quarter-2-ends-1-28-22
DTSTART;VALUE=DATE:20260128
DTEND;VALUE=DATE:20260129
END:VEVENT
END:VCALENDAR
