BEGIN:VCALENDAR
VERSION:2.0
PRODID:SchoolNow
CALSCALE:GREGORIAN
BEGIN:VEVENT
UID:f87fc5ca-348e-11f1-9747-02d53503a595
DTSTAMP:20260425T084008Z
SUMMARY:Memorial Day Holiday
URL;VALUE=URI:https://www.tusd.org/schools/shs-old/calendar/8983159/memoria
 l-day-holiday
DTSTART;VALUE=DATE:20270531
DTEND;VALUE=DATE:20270601
END:VEVENT
END:VCALENDAR
