BEGIN:VCALENDAR
VERSION:2.0
PRODID:SchoolNow
CALSCALE:GREGORIAN
BEGIN:VEVENT
UID:f2579bfa-137d-11f1-9d3c-0a58a9feac02
DTSTAMP:20260424T203009Z
SUMMARY:Registration Sophomores
URL;VALUE=URI:https://www.tusd.org/schools/shs-old/calendar/8874463/registr
 ation-sophomores
DTSTART:20260812T160000Z
DTEND:20260812T180000Z
END:VEVENT
END:VCALENDAR
