BEGIN:VCALENDAR
VERSION:2.0
PRODID:SchoolNow
CALSCALE:GREGORIAN
BEGIN:VEVENT
UID:f2579a7e-137d-11f1-b6ae-0a58a9feac02
DTSTAMP:20260424T203009Z
SUMMARY:Registration Freshman
URL;VALUE=URI:https://www.tusd.org/schools/shs-old/calendar/8874462/registr
 ation-freshman
DTSTART:20260811T153000Z
DTEND:20260811T180000Z
END:VEVENT
END:VCALENDAR
