BEGIN:VCALENDAR
VERSION:2.0
PRODID:SchoolNow
CALSCALE:GREGORIAN
BEGIN:VEVENT
UID:f25796c8-137d-11f1-89a7-0a58a9feac02
DTSTAMP:20260424T203009Z
SUMMARY:Registration Seniors
URL;VALUE=URI:https://www.tusd.org/schools/shs-old/calendar/8874461/registr
 ation-seniors
DTSTART:20260810T160000Z
DTEND:20260810T180000Z
END:VEVENT
END:VCALENDAR
