BEGIN:VCALENDAR
VERSION:2.0
PRODID:SchoolNow
CALSCALE:GREGORIAN
BEGIN:VEVENT
UID:f2578c50-137d-11f1-aeba-0a58a9feac02
DTSTAMP:20260424T203009Z
SUMMARY:Registration Juniors
URL;VALUE=URI:https://www.tusd.org/schools/shs-old/calendar/8874460/registr
 ation-juniors
DTSTART:20260811T200000Z
DTEND:20260811T220000Z
END:VEVENT
END:VCALENDAR
